BEGIN:VCALENDAR
VERSION:2.0
PRODID:-//jEvents 2.0 for Joomla//EN
CALSCALE:GREGORIAN
METHOD:PUBLISH
BEGIN:VTIMEZONE
TZID:Europe/Rome
BEGIN:STANDARD
DTSTART:20231029T020000
RDATE:20240331T030000
TZOFFSETFROM:+0200
TZOFFSETTO:+0100
TZNAME:Europe/Rome CET
END:STANDARD
BEGIN:STANDARD
DTSTART:20241027T020000
RDATE:20250330T030000
TZOFFSETFROM:+0200
TZOFFSETTO:+0100
TZNAME:Europe/Rome CET
END:STANDARD
BEGIN:STANDARD
DTSTART:20251026T020000
RDATE:20260329T030000
TZOFFSETFROM:+0200
TZOFFSETTO:+0100
TZNAME:Europe/Rome CET
END:STANDARD
BEGIN:STANDARD
DTSTART:20261025T020000
RDATE:20270328T030000
TZOFFSETFROM:+0200
TZOFFSETTO:+0100
TZNAME:Europe/Rome CET
END:STANDARD
BEGIN:STANDARD
DTSTART:20271031T020000
RDATE:20280326T030000
TZOFFSETFROM:+0200
TZOFFSETTO:+0100
TZNAME:Europe/Rome CET
END:STANDARD
BEGIN:STANDARD
DTSTART:20281029T020000
RDATE:20290325T030000
TZOFFSETFROM:+0200
TZOFFSETTO:+0100
TZNAME:Europe/Rome CET
END:STANDARD
BEGIN:STANDARD
DTSTART:20291028T020000
RDATE:20300331T030000
TZOFFSETFROM:+0200
TZOFFSETTO:+0100
TZNAME:Europe/Rome CET
END:STANDARD
BEGIN:STANDARD
DTSTART:20301027T020000
RDATE:20310330T030000
TZOFFSETFROM:+0200
TZOFFSETTO:+0100
TZNAME:Europe/Rome CET
END:STANDARD
BEGIN:STANDARD
DTSTART:20311026T020000
RDATE:20320328T030000
TZOFFSETFROM:+0200
TZOFFSETTO:+0100
TZNAME:Europe/Rome CET
END:STANDARD
BEGIN:DAYLIGHT
DTSTART:20230628T000000
RDATE:20231029T020000
TZOFFSETFROM:+0100
TZOFFSETTO:+0200
TZNAME:Europe/Rome CEST
END:DAYLIGHT
BEGIN:DAYLIGHT
DTSTART:20240331T030000
RDATE:20241027T020000
TZOFFSETFROM:+0100
TZOFFSETTO:+0200
TZNAME:Europe/Rome CEST
END:DAYLIGHT
BEGIN:DAYLIGHT
DTSTART:20250330T030000
RDATE:20251026T020000
TZOFFSETFROM:+0100
TZOFFSETTO:+0200
TZNAME:Europe/Rome CEST
END:DAYLIGHT
BEGIN:DAYLIGHT
DTSTART:20260329T030000
RDATE:20261025T020000
TZOFFSETFROM:+0100
TZOFFSETTO:+0200
TZNAME:Europe/Rome CEST
END:DAYLIGHT
BEGIN:DAYLIGHT
DTSTART:20270328T030000
RDATE:20271031T020000
TZOFFSETFROM:+0100
TZOFFSETTO:+0200
TZNAME:Europe/Rome CEST
END:DAYLIGHT
BEGIN:DAYLIGHT
DTSTART:20280326T030000
RDATE:20281029T020000
TZOFFSETFROM:+0100
TZOFFSETTO:+0200
TZNAME:Europe/Rome CEST
END:DAYLIGHT
BEGIN:DAYLIGHT
DTSTART:20290325T030000
RDATE:20291028T020000
TZOFFSETFROM:+0100
TZOFFSETTO:+0200
TZNAME:Europe/Rome CEST
END:DAYLIGHT
BEGIN:DAYLIGHT
DTSTART:20300331T030000
RDATE:20301027T020000
TZOFFSETFROM:+0100
TZOFFSETTO:+0200
TZNAME:Europe/Rome CEST
END:DAYLIGHT
BEGIN:DAYLIGHT
DTSTART:20310330T030000
RDATE:20311026T020000
TZOFFSETFROM:+0100
TZOFFSETTO:+0200
TZNAME:Europe/Rome CEST
END:DAYLIGHT
END:VTIMEZONE
BEGIN:VEVENT
UID:60034a39fa9d22e6dccf4a6027869439
CATEGORIES:Mostre, esposizioni, eventi culturali
CREATED:20240625T174420
SUMMARY:CIRCINUS. COMPASSI DI PROPORZIONE DAL XV AL XVIII SECOLO
LOCATION:Museo Galileo\, Firenze 
DESCRIPTION:Il compasso di proporzione è stato per oltre due secoli un compagno indispe
 nsabile di architetti, ingegneri e scienziati. A prima vista, si tratta di 
 uno strumento di calcolo molto semplice, costituito da due gambe piatte uni
 te da un perno. Ogni gamba reca incise diverse scale, il cui utilizzo conse
 nte di effettuare misurazioni, eseguire calcoli e ricavare informazioni di 
 vario genere.\nLa mostra ricostruisce la storia di questo straordinario str
 umento, che rappresenta una delle più significative conquiste della matemat
 ica pratica occidentale, illustrandone l’evoluzione, il funzionamento e i d
 iversi utilizzi, e soprattutto il fondamentale ruolo svolto nello sviluppo 
 delle applicazioni matematiche.\nl compasso di proporzione è anche un perfe
 tto esempio della simbiosi tra scienza e arte, frutto della combinazione di
  rigorosi principi matematici con la maestria di artefici raffinati. I prez
 iosi esemplari esposti in molti casi costituiscono infatti vere e proprie o
 pere d’arte per la ricchezza dei materiali impiegati e la ricercatezza con 
 cui furono realizzati.\nCircinus costituisce un adattamento dell’esposizion
 e “Proportionalzirkel und seltene Mathematik- und Zeicheninstrumente des 17
 . und 18. Jahrhunderts” allestita a Bonn presso l’Arithmeum dal 21 ottobre 
 2023 al 9 giugno 2024.\nLa mostra fiorentina, realizzata in collaborazione 
 con l’Arithmeum, è arricchita da una sezione appositamente concepita, dedic
 ata alle origini del compasso di proporzione, da Leonardo a Galileo, nella 
 quale sono esposti strumenti e testi provenienti dalle collezioni del Museo
  Galileo.\nIn mostra numerosi pezzi storici, provenienti dall’Arithmeum di 
 Bonn, dall’Hessen Kassel Heritage, dalle collezioni Rocca di Bonn e Delalan
 de di Parigi, dalla Fondazione Pisa, oltre che dal Museo Galileo stesso, af
 fiancati da volumi originali e in facsimile e da ricostruzioni di compassi 
 di proporzione, tra i quali alcuni ideati da Leonardo da Vinci.\nCuratori d
 ella mostra: Ina Prinz, Patrick Rocca, Filippo Camerota\nComitato scientifi
 co: Ina Prinz (Direttrice, Arithmeum), Patrick Rocca (Curatore, Arithmeum),
  Filippo Camerota (Direttore scientifico, Museo Galileo), Giorgio Strano (R
 esponsabile delle collezioni, Museo Galileo), Martin Eberle (Direttore, Ast
 ronomisch-Physikalisches Kabinett, Hessen Kassel Heritage), Karsten Gaulke 
 (Curatore, Astronomisch-Physikalisches Kabinett, Hessen Kassel Heritage).\n
 Maggiori informazioni sul sito del Museo Galileo (https://www.museogalileo.
 it/it/mostre/circinus.html?_gl=1*1ds6zun*_ga*NzMyOTM0MzU2LjE3MTkzMjk5OTU.*_
 ga_MR6699DG9Z*MTcxOTMyOTk5NS4xLjAuMTcxOTMyOTk5NS4wLjAuMA..).\n
X-ALT-DESC;FMTTYPE=text/html:<p>Il compasso di proporzione è stato per oltre due secoli un compagno indi
 spensabile di architetti, ingegneri e scienziati. A prima vista, si tratta 
 di uno strumento di calcolo molto semplice, costituito da due gambe piatte 
 unite da un perno. Ogni gamba reca incise diverse scale, il cui utilizzo co
 nsente di effettuare misurazioni, eseguire calcoli e ricavare informazioni 
 di vario genere.</p><p>La mostra ricostruisce la storia di questo straordin
 ario strumento, che rappresenta una delle più significative conquiste della
  matematica pratica occidentale, illustrandone l’evoluzione, il funzionamen
 to e i diversi utilizzi, e soprattutto il fondamentale ruolo svolto nello s
 viluppo delle applicazioni matematiche.</p><p>l compasso di proporzione è a
 nche un perfetto esempio della simbiosi tra scienza e arte, frutto della co
 mbinazione di rigorosi principi matematici con la maestria di artefici raff
 inati. I preziosi esemplari esposti in molti casi costituiscono infatti ver
 e e proprie opere d’arte per la ricchezza dei materiali impiegati e la rice
 rcatezza con cui furono realizzati.</p><p><em>Circinus&nbsp;</em>costituisc
 e un adattamento dell’esposizione “Proportionalzirkel und seltene Mathemati
 k- und Zeicheninstrumente des 17. und 18. Jahrhunderts” allestita a Bonn pr
 esso l’Arithmeum dal 21 ottobre 2023 al 9 giugno 2024.</p><p>La mostra fior
 entina, realizzata in collaborazione con l’Arithmeum, è arricchita da una s
 ezione appositamente concepita, dedicata alle origini del compasso di propo
 rzione, da Leonardo a Galileo, nella quale sono esposti strumenti e testi p
 rovenienti dalle collezioni del Museo Galileo.</p><p>In mostra numerosi pez
 zi storici, provenienti dall’Arithmeum di Bonn, dall’Hessen Kassel Heritage
 , dalle collezioni Rocca di Bonn e Delalande di Parigi, dalla Fondazione Pi
 sa, oltre che dal Museo Galileo stesso, affiancati da volumi originali e in
  facsimile e da ricostruzioni di compassi di proporzione, tra i quali alcun
 i ideati da Leonardo da Vinci.</p><p><em>Curatori della mostra</em>: Ina Pr
 inz, Patrick Rocca, Filippo Camerota</p><p><em>Comitato scientifico</em>: I
 na Prinz (Direttrice, Arithmeum), Patrick Rocca (Curatore, Arithmeum), Fili
 ppo Camerota (Direttore scientifico, Museo Galileo), Giorgio Strano (Respon
 sabile delle collezioni, Museo Galileo), Martin Eberle (Direttore, Astronom
 isch-Physikalisches Kabinett, Hessen Kassel Heritage), Karsten Gaulke (Cura
 tore, Astronomisch-Physikalisches Kabinett, Hessen Kassel Heritage).</p><p>
 Maggiori informazioni sul sito del <a href="https://www.museogalileo.it/it/
 mostre/circinus.html?_gl=1*1ds6zun*_ga*NzMyOTM0MzU2LjE3MTkzMjk5OTU.*_ga_MR6
 699DG9Z*MTcxOTMyOTk5NS4xLjAuMTcxOTMyOTk5NS4wLjAuMA.." target="_blank" rel="
 noopener">Museo Galileo</a>.</p>
CONTACT:Questo indirizzo email è protetto dagli spambots. È necessario abilitare JavaScript per vederlo.
X-EXTRAINFO:https://www.museogalileo.it/it/mostre/circinus.html
DTSTAMP:20260420T082144
DTSTART;TZID=Europe/Rome;VALUE=DATE:20240628
DTEND;TZID=Europe/Rome;VALUE=DATE:20240629
SEQUENCE:0
TRANSP:OPAQUE
END:VEVENT
END:VCALENDAR